BEGIN:VCALENDAR
VERSION:2.0
PRODID:-//Earls Barton Parish Council//Meeting Calendar//EN
CALSCALE:GREGORIAN
METHOD:PUBLISH
BEGIN:VEVENT
UID:70347-20200601@earlsbarton.gov.uk
DTSTAMP:20260420T015555Z
DTSTART;VALUE=DATE:20200601
DTEND;VALUE=DATE:20200602
SUMMARY:Council Meeting &#8211\\; June 2020
DESCRIPTION:Full Council Meeting\nView details: https://earlsbarton.gov.uk/meetings/council-meeting-june-2020/
URL:https://earlsbarton.gov.uk/meetings/council-meeting-june-2020/
END:VEVENT
END:VCALENDAR
