BEGIN:VCALENDAR
VERSION:2.0
PRODID:-//Earls Barton Parish Council//Meeting Calendar//EN
CALSCALE:GREGORIAN
METHOD:PUBLISH
BEGIN:VEVENT
UID:70391-20220701@earlsbarton.gov.uk
DTSTAMP:20260421T142652Z
DTSTART;VALUE=DATE:20220701
DTEND;VALUE=DATE:20220702
SUMMARY:Council Meeting &#8211\\; July 2022
DESCRIPTION:Full Council Meeting\nView details: https://earlsbarton.gov.uk/meetings/council-meeting-july-2022/
URL:https://earlsbarton.gov.uk/meetings/council-meeting-july-2022/
END:VEVENT
END:VCALENDAR
