BEGIN:VCALENDAR
VERSION:2.0
PRODID:-//Earls Barton Parish Council//Meeting Calendar//EN
CALSCALE:GREGORIAN
METHOD:PUBLISH
BEGIN:VEVENT
UID:70393-20220901@earlsbarton.gov.uk
DTSTAMP:20260421T092508Z
DTSTART;VALUE=DATE:20220901
DTEND;VALUE=DATE:20220902
SUMMARY:Council Meeting &#8211\\; September 2022
DESCRIPTION:Full Council Meeting\nView details: https://earlsbarton.gov.uk/meetings/council-meeting-september-2022/
URL:https://earlsbarton.gov.uk/meetings/council-meeting-september-2022/
END:VEVENT
END:VCALENDAR
