BEGIN:VCALENDAR
VERSION:2.0
PRODID:-//Earls Barton Parish Council//Meeting Calendar//EN
CALSCALE:GREGORIAN
METHOD:PUBLISH
BEGIN:VEVENT
UID:70397-20221101@earlsbarton.gov.uk
DTSTAMP:20260421T090143Z
DTSTART;VALUE=DATE:20221101
DTEND;VALUE=DATE:20221102
SUMMARY:Council Meeting &#8211\\; November 2022
DESCRIPTION:Full Council Meeting\nView details: https://earlsbarton.gov.uk/meetings/council-meeting-november-2022/
URL:https://earlsbarton.gov.uk/meetings/council-meeting-november-2022/
END:VEVENT
END:VCALENDAR
