BEGIN:VCALENDAR
VERSION:2.0
PRODID:-//Earls Barton Parish Council//Meeting Calendar//EN
CALSCALE:GREGORIAN
METHOD:PUBLISH
BEGIN:VEVENT
UID:70478-20210101@earlsbarton.gov.uk
DTSTAMP:20260419T171829Z
DTSTART;VALUE=DATE:20210101
DTEND;VALUE=DATE:20210102
SUMMARY:Project Team Meeting &#8211\\; January 2021
DESCRIPTION:Project Team Meeting\nView details: https://earlsbarton.gov.uk/meetings/project-team-meeting-january-2021/
URL:https://earlsbarton.gov.uk/meetings/project-team-meeting-january-2021/
END:VEVENT
END:VCALENDAR
