BEGIN:VCALENDAR
VERSION:2.0
PRODID:-//Earls Barton Parish Council//Meeting Calendar//EN
CALSCALE:GREGORIAN
METHOD:PUBLISH
BEGIN:VEVENT
UID:70504-20220301@earlsbarton.gov.uk
DTSTAMP:20260421T091620Z
DTSTART;VALUE=DATE:20220301
DTEND;VALUE=DATE:20220302
SUMMARY:Project Team Meeting &#8211\\; March 2022
DESCRIPTION:Project Team Meeting\nView details: https://earlsbarton.gov.uk/meetings/project-team-meeting-march-2022/
URL:https://earlsbarton.gov.uk/meetings/project-team-meeting-march-2022/
END:VEVENT
END:VCALENDAR
