BEGIN:VCALENDAR
VERSION:2.0
PRODID:-//Earls Barton Parish Council//Meeting Calendar//EN
CALSCALE:GREGORIAN
METHOD:PUBLISH
BEGIN:VEVENT
UID:70506-20220401@earlsbarton.gov.uk
DTSTAMP:20260420T002530Z
DTSTART;VALUE=DATE:20220401
DTEND;VALUE=DATE:20220402
SUMMARY:Project Team Meeting &#8211\\; April 2022
DESCRIPTION:Project Team Meeting\nView details: https://earlsbarton.gov.uk/meetings/project-team-meeting-april-2022/
URL:https://earlsbarton.gov.uk/meetings/project-team-meeting-april-2022/
END:VEVENT
END:VCALENDAR
