BEGIN:VCALENDAR
VERSION:2.0
PRODID:-//Earls Barton Parish Council//Meeting Calendar//EN
CALSCALE:GREGORIAN
METHOD:PUBLISH
BEGIN:VEVENT
UID:70514-20220801@earlsbarton.gov.uk
DTSTAMP:20260421T083303Z
DTSTART;VALUE=DATE:20220801
DTEND;VALUE=DATE:20220802
SUMMARY:Project Team Meeting &#8211\\; August 2022
DESCRIPTION:Project Team Meeting\nView details: https://earlsbarton.gov.uk/meetings/project-team-meeting-august-2022/
URL:https://earlsbarton.gov.uk/meetings/project-team-meeting-august-2022/
END:VEVENT
END:VCALENDAR
