BEGIN:VCALENDAR
VERSION:2.0
PRODID:-//Earls Barton Parish Council//Meeting Calendar//EN
CALSCALE:GREGORIAN
METHOD:PUBLISH
BEGIN:VEVENT
UID:70516-20220901@earlsbarton.gov.uk
DTSTAMP:20260420T015823Z
DTSTART;VALUE=DATE:20220901
DTEND;VALUE=DATE:20220902
SUMMARY:Project Team Meeting &#8211\\; September 2022
DESCRIPTION:Project Team Meeting\nView details: https://earlsbarton.gov.uk/meetings/project-team-meeting-september-2022/
URL:https://earlsbarton.gov.uk/meetings/project-team-meeting-september-2022/
END:VEVENT
END:VCALENDAR
