BEGIN:VCALENDAR
VERSION:2.0
PRODID:-//Earls Barton Parish Council//Meeting Calendar//EN
CALSCALE:GREGORIAN
METHOD:PUBLISH
BEGIN:VEVENT
UID:70526-20230201@earlsbarton.gov.uk
DTSTAMP:20260421T092136Z
DTSTART;VALUE=DATE:20230201
DTEND;VALUE=DATE:20230202
SUMMARY:Project Team Meeting &#8211\\; February 2023
DESCRIPTION:Project Team Meeting\nView details: https://earlsbarton.gov.uk/meetings/project-team-meeting-february-2023/
URL:https://earlsbarton.gov.uk/meetings/project-team-meeting-february-2023/
END:VEVENT
END:VCALENDAR
