BEGIN:VCALENDAR
VERSION:2.0
PRODID:-//Earls Barton Parish Council//Meeting Calendar//EN
CALSCALE:GREGORIAN
METHOD:PUBLISH
BEGIN:VEVENT
UID:70568-20210107@earlsbarton.gov.uk
DTSTAMP:20260421T091547Z
DTSTART;VALUE=DATE:20210107
DTEND;VALUE=DATE:20210108
SUMMARY:Finance Committee Meeting &#8211\\; January 2021
DESCRIPTION:Finance Committee Meeting\nView details: https://earlsbarton.gov.uk/meetings/finance-committee-meeting-january-2021/
URL:https://earlsbarton.gov.uk/meetings/finance-committee-meeting-january-2021/
END:VEVENT
END:VCALENDAR
