BEGIN:VCALENDAR
VERSION:2.0
PRODID:-//Earls Barton Parish Council//Meeting Calendar//EN
CALSCALE:GREGORIAN
METHOD:PUBLISH
BEGIN:VEVENT
UID:70574-20230105@earlsbarton.gov.uk
DTSTAMP:20260419T203401Z
DTSTART;VALUE=DATE:20230105
DTEND;VALUE=DATE:20230106
SUMMARY:Finance Committee Meeting &#8211\\; January 2023
DESCRIPTION:Finance Committee Meeting\nView details: https://earlsbarton.gov.uk/meetings/finance-committee-meeting-january-2023-2/
URL:https://earlsbarton.gov.uk/meetings/finance-committee-meeting-january-2023-2/
END:VEVENT
END:VCALENDAR
