BEGIN:VCALENDAR
VERSION:2.0
PRODID:-//Earls Barton Parish Council//Meeting Calendar//EN
CALSCALE:GREGORIAN
METHOD:PUBLISH
BEGIN:VEVENT
UID:70600-20211014@earlsbarton.gov.uk
DTSTAMP:20260421T083813Z
DTSTART;VALUE=DATE:20211014
DTEND;VALUE=DATE:20211015
SUMMARY:Ground Maintenance Meeting &#8211\\; October 2021
DESCRIPTION:Ground Maintenance Committee Meeting\nView details: https://earlsbarton.gov.uk/meetings/ground-maintenance-meeting-october-2021/
URL:https://earlsbarton.gov.uk/meetings/ground-maintenance-meeting-october-2021/
END:VEVENT
END:VCALENDAR
