BEGIN:VCALENDAR
VERSION:2.0
PRODID:-//Earls Barton Parish Council//Meeting Calendar//EN
CALSCALE:GREGORIAN
METHOD:PUBLISH
BEGIN:VEVENT
UID:70607-20211026@earlsbarton.gov.uk
DTSTAMP:20260421T082958Z
DTSTART;VALUE=DATE:20211026
DTEND;VALUE=DATE:20211027
SUMMARY:Event Committee Meeting &#8211\\; October 2021
DESCRIPTION:Event Committee Meeting\nView details: https://earlsbarton.gov.uk/meetings/event-committee-meeting-october-2021/
URL:https://earlsbarton.gov.uk/meetings/event-committee-meeting-october-2021/
END:VEVENT
END:VCALENDAR
