BEGIN:VCALENDAR
VERSION:2.0
PRODID:-//Earls Barton Parish Council//Meeting Calendar//EN
CALSCALE:GREGORIAN
METHOD:PUBLISH
BEGIN:VEVENT
UID:70613-20220525@earlsbarton.gov.uk
DTSTAMP:20260419T122603Z
DTSTART;VALUE=DATE:20220525
DTEND;VALUE=DATE:20220526
SUMMARY:Event Committee Meeting &#8211\\; May 2022
DESCRIPTION:Event Committee Meeting\nView details: https://earlsbarton.gov.uk/meetings/event-committee-meeting-may-2022/
URL:https://earlsbarton.gov.uk/meetings/event-committee-meeting-may-2022/
END:VEVENT
END:VCALENDAR
