BEGIN:VCALENDAR
VERSION:2.0
PRODID:-//Earls Barton Parish Council//Meeting Calendar//EN
CALSCALE:GREGORIAN
METHOD:PUBLISH
BEGIN:VEVENT
UID:70621-20211001@earlsbarton.gov.uk
DTSTAMP:20260419T202430Z
DTSTART;VALUE=DATE:20211001
DTEND;VALUE=DATE:20211002
SUMMARY:Allotment Committee &#8211\\; October 2021
DESCRIPTION:Allotment Committee Meeting\nView details: https://earlsbarton.gov.uk/meetings/allotment-committee-october-2021/
URL:https://earlsbarton.gov.uk/meetings/allotment-committee-october-2021/
END:VEVENT
END:VCALENDAR
