BEGIN:VCALENDAR
VERSION:2.0
PRODID:-//Earls Barton Parish Council//Meeting Calendar//EN
CALSCALE:GREGORIAN
METHOD:PUBLISH
BEGIN:VEVENT
UID:71064-20240521@earlsbarton.gov.uk
DTSTAMP:20260420T070708Z
DTSTART;VALUE=DATE:20240521
DTEND;VALUE=DATE:20240522
SUMMARY:Council Meeting &#8211\\; 8th April 2024
DESCRIPTION:Full Council Meeting\nView details: https://earlsbarton.gov.uk/meetings/council-meeting-8th-april-2024-2/
URL:https://earlsbarton.gov.uk/meetings/council-meeting-8th-april-2024-2/
END:VEVENT
END:VCALENDAR
