BEGIN:VCALENDAR
VERSION:2.0
PRODID:-//Earls Barton Parish Council//Meeting Calendar//EN
CALSCALE:GREGORIAN
METHOD:PUBLISH
BEGIN:VEVENT
UID:72086-20250623@earlsbarton.gov.uk
DTSTAMP:20260420T002152Z
DTSTART;VALUE=DATE:20250623
DTEND;VALUE=DATE:20250624
SUMMARY:Extraordinary Council Meeting &#8211\\; June 2025
DESCRIPTION:Full Council Meeting\nView details: https://earlsbarton.gov.uk/meetings/extraordinary-council-meeting-june-2025/
URL:https://earlsbarton.gov.uk/meetings/extraordinary-council-meeting-june-2025/
END:VEVENT
END:VCALENDAR
