BEGIN:VCALENDAR
VERSION:2.0
PRODID:-//Earls Barton Parish Council//Meeting Calendar//EN
CALSCALE:GREGORIAN
METHOD:PUBLISH
BEGIN:VEVENT
UID:72127-20250714@earlsbarton.gov.uk
DTSTAMP:20260419T235231Z
DTSTART;VALUE=DATE:20250714
DTEND;VALUE=DATE:20250715
SUMMARY:Council Meeting &#8211\\; July 2025
DESCRIPTION:Full Council Meeting\nView details: https://earlsbarton.gov.uk/meetings/council-meeting-july-2025/
URL:https://earlsbarton.gov.uk/meetings/council-meeting-july-2025/
END:VEVENT
END:VCALENDAR
