BEGIN:VCALENDAR
VERSION:2.0
PRODID:-//Earls Barton Parish Council//Meeting Calendar//EN
CALSCALE:GREGORIAN
METHOD:PUBLISH
BEGIN:VEVENT
UID:72131-20250805@earlsbarton.gov.uk
DTSTAMP:20260421T082750Z
DTSTART;VALUE=DATE:20250805
DTEND;VALUE=DATE:20250806
SUMMARY:Project Management Team &#8211\\; August 2025
DESCRIPTION:Project Team Meeting\nView details: https://earlsbarton.gov.uk/meetings/project-management-team-august-2025/
URL:https://earlsbarton.gov.uk/meetings/project-management-team-august-2025/
END:VEVENT
END:VCALENDAR
