BEGIN:VCALENDAR
VERSION:2.0
PRODID:-//Earls Barton Parish Council//Meeting Calendar//EN
CALSCALE:GREGORIAN
METHOD:PUBLISH
BEGIN:VEVENT
UID:72145-20251013@earlsbarton.gov.uk
DTSTAMP:20260421T090603Z
DTSTART;VALUE=DATE:20251013
DTEND;VALUE=DATE:20251014
SUMMARY:Council Meeting &#8211\\; October 2025
DESCRIPTION:Full Council Meeting\nView details: https://earlsbarton.gov.uk/meetings/council-meeting-october-2025/
URL:https://earlsbarton.gov.uk/meetings/council-meeting-october-2025/
END:VEVENT
END:VCALENDAR
