BEGIN:VCALENDAR
VERSION:2.0
PRODID:-//Earls Barton Parish Council//Meeting Calendar//EN
CALSCALE:GREGORIAN
METHOD:PUBLISH
BEGIN:VEVENT
UID:72153-20251103@earlsbarton.gov.uk
DTSTAMP:20260419T125350Z
DTSTART;VALUE=DATE:20251103
DTEND;VALUE=DATE:20251104
SUMMARY:Extraordinary Council Meeting &#8211\\; November 2025
DESCRIPTION:Full Council Meeting\nView details: https://earlsbarton.gov.uk/meetings/extraordinary-council-meeting-november-2025/
URL:https://earlsbarton.gov.uk/meetings/extraordinary-council-meeting-november-2025/
END:VEVENT
END:VCALENDAR
