BEGIN:VCALENDAR
VERSION:2.0
PRODID:-//Earls Barton Parish Council//Meeting Calendar//EN
CALSCALE:GREGORIAN
METHOD:PUBLISH
BEGIN:VEVENT
UID:72190-20250902@earlsbarton.gov.uk
DTSTAMP:20260419T161306Z
DTSTART;VALUE=DATE:20250902
DTEND;VALUE=DATE:20250903
SUMMARY:Project Management Team &#8211\\; September 2025
DESCRIPTION:Project Team Meeting\nView details: https://earlsbarton.gov.uk/meetings/project-management-team-september-2025/
URL:https://earlsbarton.gov.uk/meetings/project-management-team-september-2025/
END:VEVENT
END:VCALENDAR
