BEGIN:VCALENDAR
VERSION:2.0
PRODID:-//Earls Barton Parish Council//Meeting Calendar//EN
CALSCALE:GREGORIAN
METHOD:PUBLISH
BEGIN:VEVENT
UID:72192-20251007@earlsbarton.gov.uk
DTSTAMP:20260419T141117Z
DTSTART;VALUE=DATE:20251007
DTEND;VALUE=DATE:20251008
SUMMARY:Project Management Team &#8211\\; October 2025
DESCRIPTION:Project Team Meeting\nView details: https://earlsbarton.gov.uk/meetings/project-management-team-october-2025/
URL:https://earlsbarton.gov.uk/meetings/project-management-team-october-2025/
END:VEVENT
END:VCALENDAR
