BEGIN:VCALENDAR
VERSION:2.0
PRODID:-//Earls Barton Parish Council//Meeting Calendar//EN
CALSCALE:GREGORIAN
METHOD:PUBLISH
BEGIN:VEVENT
UID:72194-20251104@earlsbarton.gov.uk
DTSTAMP:20260419T122734Z
DTSTART;VALUE=DATE:20251104
DTEND;VALUE=DATE:20251105
SUMMARY:Project Management Team &#8211\\; November 2025
DESCRIPTION:Project Team Meeting\nView details: https://earlsbarton.gov.uk/meetings/project-management-team-november-2025/
URL:https://earlsbarton.gov.uk/meetings/project-management-team-november-2025/
END:VEVENT
END:VCALENDAR
